BEGIN:VCALENDAR
VERSION:2.0
PRODID:-//My Heathrow Florida: Experience Seminole County - ECPv5.0.2.1//NONSGML v1.0//EN
CALSCALE:GREGORIAN
METHOD:PUBLISH
X-WR-CALNAME:My Heathrow Florida: Experience Seminole County
X-ORIGINAL-URL:https://www.myheathrowflorida.com
X-WR-CALDESC:Events for My Heathrow Florida: Experience Seminole County
BEGIN:VTIMEZONE
TZID:America/Halifax
BEGIN:DAYLIGHT
TZOFFSETFROM:-0400
TZOFFSETTO:-0300
TZNAME:ADT
DTSTART:20170312T060000
END:DAYLIGHT
BEGIN:STANDARD
TZOFFSETFROM:-0300
TZOFFSETTO:-0400
TZNAME:AST
DTSTART:20171105T050000
END:STANDARD
END:VTIMEZONE
BEGIN:VEVENT
DTSTART;TZID=America/Halifax:20170130T140000
DTEND;TZID=America/Halifax:20170305T190000
DTSTAMP:20260421T101656
CREATED:20161215T040835Z
LAST-MODIFIED:20161215T040835Z
UID:3407-1485784800-1488740400@www.myheathrowflorida.com
SUMMARY:Geronimo Stilton: Mouse In Space
DESCRIPTION:Villains are threatening New Mouse City\, and the only hope is our reluctant hero\, Geronimo Stilton! In this high-flying adventure\, Geronimo is launched into space on a top-secret mission\, but can he overcome his fears of heights\, the dark\, and confined spaces\, and use his intelligence to save the day!? Based on the wildly popular book series\, this story takes Geronimo and his pals Thea\, Trap\, and Benjamin on the adventure of their rodent lives! \n
URL:https://www.myheathrowflorida.com/lake-mary-events-calendar/geronimo-stilton-mouse-space/
LOCATION:Orlando Repertory Theatre\, 1001 E. Princeton Street\, Orlando\, FL\, 32803\, United States
CATEGORIES:Family,Theater
ATTACH;FMTTYPE=image/jpeg:https://www.myheathrowflorida.com/wp-content/uploads/2016/12/600x400-geronimo-silton.jpg
END:VEVENT
END:VCALENDAR